BEGIN:VCALENDAR
VERSION:2.0
PRODID:-//Herrklubben Exotica - ECPv6.15.20//NONSGML v1.0//EN
CALSCALE:GREGORIAN
METHOD:PUBLISH
X-WR-CALNAME:Herrklubben Exotica
X-ORIGINAL-URL:https://www.herrklubbenexotica.se
X-WR-CALDESC:Events for Herrklubben Exotica
REFRESH-INTERVAL;VALUE=DURATION:PT1H
X-Robots-Tag:noindex
X-PUBLISHED-TTL:PT1H
BEGIN:VTIMEZONE
TZID:Europe/Stockholm
BEGIN:DAYLIGHT
TZOFFSETFROM:+0100
TZOFFSETTO:+0200
TZNAME:CEST
DTSTART:20160327T010000
END:DAYLIGHT
BEGIN:STANDARD
TZOFFSETFROM:+0200
TZOFFSETTO:+0100
TZNAME:CET
DTSTART:20161030T010000
END:STANDARD
BEGIN:DAYLIGHT
TZOFFSETFROM:+0100
TZOFFSETTO:+0200
TZNAME:CEST
DTSTART:20170326T010000
END:DAYLIGHT
BEGIN:STANDARD
TZOFFSETFROM:+0200
TZOFFSETTO:+0100
TZNAME:CET
DTSTART:20171029T010000
END:STANDARD
BEGIN:DAYLIGHT
TZOFFSETFROM:+0100
TZOFFSETTO:+0200
TZNAME:CEST
DTSTART:20180325T010000
END:DAYLIGHT
BEGIN:STANDARD
TZOFFSETFROM:+0200
TZOFFSETTO:+0100
TZNAME:CET
DTSTART:20181028T010000
END:STANDARD
BEGIN:DAYLIGHT
TZOFFSETFROM:+0100
TZOFFSETTO:+0200
TZNAME:CEST
DTSTART:20190331T010000
END:DAYLIGHT
BEGIN:STANDARD
TZOFFSETFROM:+0200
TZOFFSETTO:+0100
TZNAME:CET
DTSTART:20191027T010000
END:STANDARD
BEGIN:DAYLIGHT
TZOFFSETFROM:+0100
TZOFFSETTO:+0200
TZNAME:CEST
DTSTART:20200329T010000
END:DAYLIGHT
BEGIN:STANDARD
TZOFFSETFROM:+0200
TZOFFSETTO:+0100
TZNAME:CET
DTSTART:20201025T010000
END:STANDARD
BEGIN:DAYLIGHT
TZOFFSETFROM:+0100
TZOFFSETTO:+0200
TZNAME:CEST
DTSTART:20210328T010000
END:DAYLIGHT
BEGIN:STANDARD
TZOFFSETFROM:+0200
TZOFFSETTO:+0100
TZNAME:CET
DTSTART:20211031T010000
END:STANDARD
END:VTIMEZONE
BEGIN:VEVENT
DTSTART;VALUE=DATE:20200530
DTEND;VALUE=DATE:20200531
DTSTAMP:20260422T195030
CREATED:20200122T100142Z
LAST-MODIFIED:20200330T043805Z
UID:1714-1590796800-1590883199@www.herrklubbenexotica.se
SUMMARY:Öresund Runt - INSTÄLLT
DESCRIPTION:En klassiker blir återupplivad\, och vi tar tåg och färja genom två länder. Anmälan senast 17 maj.
URL:https://www.herrklubbenexotica.se/index.php/event/oresund-runt/
ORGANIZER;CN="Herr Sj%C3%B6":MAILTO:sjo@herrklubbenexotica.se
END:VEVENT
BEGIN:VEVENT
DTSTART;TZID=Europe/Stockholm:20200424T180000
DTEND;TZID=Europe/Stockholm:20200424T180000
DTSTAMP:20260422T195030
CREATED:20200122T095955Z
LAST-MODIFIED:20200330T043758Z
UID:1712-1587751200-1587751200@www.herrklubbenexotica.se
SUMMARY:Tequilaprovning - INSTÄLLT
DESCRIPTION:Herr Ordförande guidar oss genom agavespritens hemligheter. Anmälan senast 12 april.
URL:https://www.herrklubbenexotica.se/index.php/event/tequilaprovning/
ORGANIZER;CN="Herr Ordf%C3%B6rande":MAILTO:ordforande@herrklubbenexotica.se
END:VEVENT
BEGIN:VEVENT
DTSTART;VALUE=DATE:20200307
DTEND;VALUE=DATE:20200308
DTSTAMP:20260422T195030
CREATED:20200122T095817Z
LAST-MODIFIED:20200122T100020Z
UID:1708-1583539200-1583625599@www.herrklubbenexotica.se
SUMMARY:Årsmöte
DESCRIPTION:Anmälan senast 1 mars.
URL:https://www.herrklubbenexotica.se/index.php/event/arsmote-4/
LOCATION:4:ans Gymnasium\, Skeppsbyggaregatan 9\, Malmö\, 211 11\, Sverige
ORGANIZER;CN="Herr Ordf%C3%B6rande":MAILTO:ordforande@herrklubbenexotica.se
END:VEVENT
BEGIN:VEVENT
DTSTART;TZID=Europe/Stockholm:20200207T180000
DTEND;TZID=Europe/Stockholm:20200207T223000
DTSTAMP:20260422T195030
CREATED:20200122T095701Z
LAST-MODIFIED:20200206T141111Z
UID:1702-1581098400-1581114600@www.herrklubbenexotica.se
SUMMARY:Bastubad + Middag - INSTÄLLT
DESCRIPTION:Omväxlande kallt och varmt på Ribersborgs Kallbadhus\, med efterföljande restaurangbesök i närheten. \nInställt pga för få anmälda.
URL:https://www.herrklubbenexotica.se/index.php/event/bastubad-middag-4/
LOCATION:Ribersborgs Kallbadhus\, Limhamnsvägen\, Brygga 1\, Malmö\, 217 59
END:VEVENT
BEGIN:VEVENT
DTSTART;VALUE=DATE:20191207
DTEND;VALUE=DATE:20191208
DTSTAMP:20260422T195030
CREATED:20190110T132315Z
LAST-MODIFIED:20190110T132315Z
UID:1573-1575676800-1575763199@www.herrklubbenexotica.se
SUMMARY:Julmöte + middag
DESCRIPTION:Anmälan senast 1 december.
URL:https://www.herrklubbenexotica.se/index.php/event/julmote-middag-3/
ORGANIZER;CN="Herr Ordf%C3%B6rande":MAILTO:ordforande@herrklubbenexotica.se
END:VEVENT
BEGIN:VEVENT
DTSTART;VALUE=DATE:20191109
DTEND;VALUE=DATE:20191110
DTSTAMP:20260422T195030
CREATED:20190110T132245Z
LAST-MODIFIED:20190110T132245Z
UID:1571-1573257600-1573343999@www.herrklubbenexotica.se
SUMMARY:Dansk afton
DESCRIPTION:Anmälan senast 3 november.
URL:https://www.herrklubbenexotica.se/index.php/event/dansk-afton/
ORGANIZER;CN="Herr Svensson":MAILTO:svensson@herrklubbenexotica.se
END:VEVENT
BEGIN:VEVENT
DTSTART;TZID=Europe/Stockholm:20190726T170000
DTEND;TZID=Europe/Stockholm:20190726T223000
DTSTAMP:20260422T195030
CREATED:20190505T191946Z
LAST-MODIFIED:20190527T124242Z
UID:1604-1564160400-1564180200@www.herrklubbenexotica.se
SUMMARY:Wilmer X i Folkets Park - INSTÄLLT
DESCRIPTION:Evenemanget inställt på grund av för få anmälda. \n  \n 
URL:https://www.herrklubbenexotica.se/index.php/event/wilmer-x-i-folkets-park/
LOCATION:Folkets Park\, Amiralsgatan 35\, Malmö\, 214 37\, Sverige
CATEGORIES:Eljest
ORGANIZER;CN="Styrelsen":MAILTO:styrelsen@herrklubbenexotica.se
END:VEVENT
BEGIN:VEVENT
DTSTART;VALUE=DATE:20190705
DTEND;VALUE=DATE:20190706
DTSTAMP:20260422T195030
CREATED:20190110T132153Z
LAST-MODIFIED:20190110T132153Z
UID:1569-1562284800-1562371199@www.herrklubbenexotica.se
SUMMARY:Boule (KM)
DESCRIPTION:Anmälan senast 30 juni.
URL:https://www.herrklubbenexotica.se/index.php/event/boule-km/
LOCATION:Pildammsparken\, Malmö\, Carl Gustafs Väg 23\, Malmö\, 214 21\, Sverige
ORGANIZER;CN="Herr Sj%C3%B6":MAILTO:sjo@herrklubbenexotica.se
END:VEVENT
BEGIN:VEVENT
DTSTART;VALUE=DATE:20190607
DTEND;VALUE=DATE:20190608
DTSTAMP:20260422T195030
CREATED:20190110T132120Z
LAST-MODIFIED:20190110T132120Z
UID:1567-1559865600-1559951999@www.herrklubbenexotica.se
SUMMARY:Malmö by night
DESCRIPTION:Anmälan senast 2 juni.
URL:https://www.herrklubbenexotica.se/index.php/event/malmo-by-night-3/
ORGANIZER;CN="Herr Lindberg":MAILTO:lindberg@herrklubbenexotica.se
END:VEVENT
BEGIN:VEVENT
DTSTART;VALUE=DATE:20190405
DTEND;VALUE=DATE:20190406
DTSTAMP:20260422T195030
CREATED:20190110T132036Z
LAST-MODIFIED:20190110T132537Z
UID:1565-1554422400-1554508799@www.herrklubbenexotica.se
SUMMARY:Prison Island
DESCRIPTION:Obs! Anmälan senast 17 mars.
URL:https://www.herrklubbenexotica.se/index.php/event/prison-island/
LOCATION:Prison Island\, Drottninggatan 1\, Malmö\, Skåne\, 212 11\, Sverige
ORGANIZER;CN="Herr Lindberg":MAILTO:lindberg@herrklubbenexotica.se
END:VEVENT
BEGIN:VEVENT
DTSTART;VALUE=DATE:20190309
DTEND;VALUE=DATE:20190310
DTSTAMP:20260422T195030
CREATED:20190110T131945Z
LAST-MODIFIED:20190110T131945Z
UID:1563-1552089600-1552175999@www.herrklubbenexotica.se
SUMMARY:Årsmöte
DESCRIPTION:Anmälan senast 4 mars.
URL:https://www.herrklubbenexotica.se/index.php/event/arsmote-3/
ORGANIZER;CN="Herr Ordf%C3%B6rande":MAILTO:ordforande@herrklubbenexotica.se
END:VEVENT
BEGIN:VEVENT
DTSTART;VALUE=DATE:20190215
DTEND;VALUE=DATE:20190216
DTSTAMP:20260422T195030
CREATED:20190110T131905Z
LAST-MODIFIED:20190110T131905Z
UID:1561-1550188800-1550275199@www.herrklubbenexotica.se
SUMMARY:Bastubad + middag
DESCRIPTION:Anmälan senast 10 februari.
URL:https://www.herrklubbenexotica.se/index.php/event/bastubad-middag-3/
LOCATION:Bjärreds Saltsjöbad\, Långa bryggan\, Bjärred\, 237 21\, Sverige
ORGANIZER;CN="Herr Svensson":MAILTO:svensson@herrklubbenexotica.se
END:VEVENT
BEGIN:VEVENT
DTSTART;TZID=Europe/Stockholm:20190119T170000
DTEND;TZID=Europe/Stockholm:20190119T235900
DTSTAMP:20260422T195030
CREATED:20190108T145642Z
LAST-MODIFIED:20190108T145738Z
UID:1554-1547917200-1547942340@www.herrklubbenexotica.se
SUMMARY:Shuffleboard
DESCRIPTION:Anmälan senast 13 januari.
URL:https://www.herrklubbenexotica.se/index.php/event/shuffleboard-2/
LOCATION:Grand Öl & Mat\, Monbijougatan 17\, Malmö\, 21153\, Sverige
ORGANIZER;CN="Herr J%C3%B6nsson":MAILTO:jonsson@herrklubbenexotica.se
END:VEVENT
BEGIN:VEVENT
DTSTART;VALUE=DATE:20181201
DTEND;VALUE=DATE:20181202
DTSTAMP:20260422T195030
CREATED:20171228T095530Z
LAST-MODIFIED:20171228T095530Z
UID:1253-1543622400-1543708799@www.herrklubbenexotica.se
SUMMARY:Julmöte + middag
DESCRIPTION:Anmälan senast 25 november.
URL:https://www.herrklubbenexotica.se/index.php/event/julmote-middag-2/
LOCATION:4:ans Gymnasium\, Skeppsbyggaregatan 9\, Malmö\, 211 11\, Sverige
ORGANIZER;CN="Herr Ordf%C3%B6rande":MAILTO:ordforande@herrklubbenexotica.se
END:VEVENT
BEGIN:VEVENT
DTSTART;TZID=Europe/Stockholm:20180929T121500
DTEND;TZID=Europe/Stockholm:20180929T153000
DTSTAMP:20260422T195030
CREATED:20180909T133515Z
LAST-MODIFIED:20180909T133515Z
UID:1530-1538223300-1538235000@www.herrklubbenexotica.se
SUMMARY:Kulturell herrklubbslördag
DESCRIPTION:Bolero på Malmö Live. Kostnad för konsert 220-280 kr beroende på biljettpris.\nFördrink 12:15\, konsert 13:00\, restaurangbesök cirka 14:15. \nAnmälan sker till Herr Jönsson senast den 13 september.
URL:https://www.herrklubbenexotica.se/index.php/event/kulturell-herrklubbslordag/
LOCATION:Malmö Live\, Dag Hammarskjölds Torg 4\, Malmö\, Skåne\, 211 18\, Sverige
ORGANIZER;CN="Herr J%C3%B6nsson":MAILTO:jonsson@herrklubbenexotica.se
END:VEVENT
BEGIN:VEVENT
DTSTART;VALUE=DATE:20180706
DTEND;VALUE=DATE:20180707
DTSTAMP:20260422T195030
CREATED:20171228T095428Z
LAST-MODIFIED:20171228T095428Z
UID:1251-1530835200-1530921599@www.herrklubbenexotica.se
SUMMARY:Boule
DESCRIPTION:Klubbmästerskap. \nAnmälan senast 1 juli.
URL:https://www.herrklubbenexotica.se/index.php/event/boule-2/
LOCATION:Pildammsparken\, Malmö\, Carl Gustafs Väg 23\, Malmö\, 214 21\, Sverige
END:VEVENT
BEGIN:VEVENT
DTSTART;VALUE=DATE:20180608
DTEND;VALUE=DATE:20180609
DTSTAMP:20260422T195030
CREATED:20171228T095340Z
LAST-MODIFIED:20171228T095340Z
UID:1249-1528416000-1528502399@www.herrklubbenexotica.se
SUMMARY:Malmö by night
DESCRIPTION:Anmälan senast 3 juni.
URL:https://www.herrklubbenexotica.se/index.php/event/malmo-by-night-2/
ORGANIZER;CN="Herr Lindberg":MAILTO:lindberg@herrklubbenexotica.se
END:VEVENT
BEGIN:VEVENT
DTSTART;VALUE=DATE:20180512
DTEND;VALUE=DATE:20180513
DTSTAMP:20260422T195030
CREATED:20171228T095242Z
LAST-MODIFIED:20180430T070253Z
UID:1247-1526083200-1526169599@www.herrklubbenexotica.se
SUMMARY:Norrländsk afton
DESCRIPTION:Sponsrad aktivitet. \nAnmälan senast 6 maj.
URL:https://www.herrklubbenexotica.se/index.php/event/norrlandsk-afton/
ORGANIZER;CN="Herr Svensson":MAILTO:svensson@herrklubbenexotica.se
END:VEVENT
BEGIN:VEVENT
DTSTART;VALUE=DATE:20180413
DTEND;VALUE=DATE:20180414
DTSTAMP:20260422T195030
CREATED:20171228T095138Z
LAST-MODIFIED:20180402T185930Z
UID:1244-1523577600-1523663999@www.herrklubbenexotica.se
SUMMARY:Shuffleboard
DESCRIPTION:Klubbmästerskap. \nAnmälan senast 10 april.
URL:https://www.herrklubbenexotica.se/index.php/event/shuffleboard/
LOCATION:Grand Öl & Mat\, Monbijougatan 17\, Malmö\, 21153\, Sverige
ORGANIZER;CN="Herr Ordf%C3%B6rande":MAILTO:ordforande@herrklubbenexotica.se
END:VEVENT
BEGIN:VEVENT
DTSTART;VALUE=DATE:20180310
DTEND;VALUE=DATE:20180311
DTSTAMP:20260422T195030
CREATED:20171228T094952Z
LAST-MODIFIED:20180307T203457Z
UID:1242-1520640000-1520726399@www.herrklubbenexotica.se
SUMMARY:Årsmöte
DESCRIPTION:Sponsrat evenemang. \nAnmälan senast 4 mars.
URL:https://www.herrklubbenexotica.se/index.php/event/arsmote-2/
ORGANIZER;CN="Herr Ordf%C3%B6rande":MAILTO:ordforande@herrklubbenexotica.se
END:VEVENT
BEGIN:VEVENT
DTSTART;VALUE=DATE:20180216
DTEND;VALUE=DATE:20180217
DTSTAMP:20260422T195030
CREATED:20171228T094830Z
LAST-MODIFIED:20171228T094830Z
UID:1239-1518739200-1518825599@www.herrklubbenexotica.se
SUMMARY:Bastubad + Middag
DESCRIPTION:Anmälan senast 11 februari.
URL:https://www.herrklubbenexotica.se/index.php/event/bastubad-middag-2/
LOCATION:Bjärreds Saltsjöbad\, Långa bryggan\, Bjärred\, 237 21\, Sverige
ORGANIZER;CN="Herr Sj%C3%B6":MAILTO:sjo@herrklubbenexotica.se
END:VEVENT
BEGIN:VEVENT
DTSTART;VALUE=DATE:20180120
DTEND;VALUE=DATE:20180121
DTSTAMP:20260422T195030
CREATED:20171228T094534Z
LAST-MODIFIED:20171228T094534Z
UID:1237-1516406400-1516492799@www.herrklubbenexotica.se
SUMMARY:Höghöjdsbana
DESCRIPTION:Anmälan senast 14 januari.
URL:https://www.herrklubbenexotica.se/index.php/event/hoghojdsbana/
ORGANIZER;CN="Herr Lindberg":MAILTO:lindberg@herrklubbenexotica.se
END:VEVENT
BEGIN:VEVENT
DTSTART;VALUE=DATE:20171202
DTEND;VALUE=DATE:20171203
DTSTAMP:20260422T195030
CREATED:20170324T124912Z
LAST-MODIFIED:20170324T124912Z
UID:1126-1512172800-1512259199@www.herrklubbenexotica.se
SUMMARY:Julmöte + middag
DESCRIPTION:Anmälan senast 26 november.
URL:https://www.herrklubbenexotica.se/index.php/event/julmote-middag/
LOCATION:4:ans Gymnasium\, Skeppsbyggaregatan 9\, Malmö\, 211 11\, Sverige
ORGANIZER;CN="Herr Ordf%C3%B6rande":MAILTO:ordforande@herrklubbenexotica.se
END:VEVENT
BEGIN:VEVENT
DTSTART;VALUE=DATE:20171110
DTEND;VALUE=DATE:20171111
DTSTAMP:20260422T195030
CREATED:20170324T124826Z
LAST-MODIFIED:20170916T102048Z
UID:1124-1510272000-1510358399@www.herrklubbenexotica.se
SUMMARY:AW / Bartömning
DESCRIPTION:Vi förbarmar oss över klubb-barens mest vällagrade sprit.\nAnmälan senast 5 november.
URL:https://www.herrklubbenexotica.se/index.php/event/aw-bartomning/
LOCATION:4:ans Gymnasium\, Skeppsbyggaregatan 9\, Malmö\, 211 11\, Sverige
ORGANIZER;CN="Herr Lindberg":MAILTO:lindberg@herrklubbenexotica.se
END:VEVENT
BEGIN:VEVENT
DTSTART;VALUE=DATE:20171028
DTEND;VALUE=DATE:20171029
DTSTAMP:20260422T195030
CREATED:20170324T124700Z
LAST-MODIFIED:20170324T124700Z
UID:1121-1509148800-1509235199@www.herrklubbenexotica.se
SUMMARY:Jägersro trav
DESCRIPTION:Anmälan senast 15 oktober.
URL:https://www.herrklubbenexotica.se/index.php/event/jagersro-trav/
LOCATION:Jägersro\, Jägersrovägen 212\, Malmö\, 212 37\, Sverige
ORGANIZER;CN="Herr Lindberg":MAILTO:lindberg@herrklubbenexotica.se
END:VEVENT
BEGIN:VEVENT
DTSTART;VALUE=DATE:20170915
DTEND;VALUE=DATE:20170918
DTSTAMP:20260422T195030
CREATED:20170324T123653Z
LAST-MODIFIED:20170324T123738Z
UID:1117-1505433600-1505692799@www.herrklubbenexotica.se
SUMMARY:Düsseldorf
DESCRIPTION:22\,5-årsjubileum i form av halvsponsrad resa till Düsseldorf.
URL:https://www.herrklubbenexotica.se/index.php/event/dusseldorf/
LOCATION:Düsseldorf\, Hinter der Bahndamm\, Düsseldorf\, Tyskland
CATEGORIES:Resa
ORGANIZER;CN="Styrelsen":MAILTO:styrelsen@herrklubbenexotica.se
END:VEVENT
BEGIN:VEVENT
DTSTART;VALUE=DATE:20170707
DTEND;VALUE=DATE:20170708
DTSTAMP:20260422T195030
CREATED:20170321T104824Z
LAST-MODIFIED:20170321T104824Z
UID:294-1499385600-1499471999@www.herrklubbenexotica.se
SUMMARY:Boule
DESCRIPTION:Anmälan senast 2 juli.
URL:https://www.herrklubbenexotica.se/index.php/event/boule/
LOCATION:Pildammsparken\, Malmö\, Carl Gustafs Väg 23\, Malmö\, 214 21\, Sverige
CATEGORIES:Klubbmästerskap
ORGANIZER;CN="Herr Sj%C3%B6":MAILTO:sjo@herrklubbenexotica.se
END:VEVENT
BEGIN:VEVENT
DTSTART;VALUE=DATE:20170609
DTEND;VALUE=DATE:20170610
DTSTAMP:20260422T195030
CREATED:20170321T104540Z
LAST-MODIFIED:20170321T104540Z
UID:292-1496966400-1497052799@www.herrklubbenexotica.se
SUMMARY:Malmö by night
DESCRIPTION:Anmälan senast 4 juni.
URL:https://www.herrklubbenexotica.se/index.php/event/malmo-by-night/
CATEGORIES:Eljest
ORGANIZER;CN="Herr Ordf%C3%B6rande":MAILTO:ordforande@herrklubbenexotica.se
END:VEVENT
BEGIN:VEVENT
DTSTART;VALUE=DATE:20170513
DTEND;VALUE=DATE:20170514
DTSTAMP:20260422T195030
CREATED:20170321T104403Z
LAST-MODIFIED:20170330T163926Z
UID:289-1494633600-1494719999@www.herrklubbenexotica.se
SUMMARY:Sherlocked
DESCRIPTION:Anmälan senast 30 april.
URL:https://www.herrklubbenexotica.se/index.php/event/sherlocked/
LOCATION:Sherlocked\, Malmö\, Norra Vallgatan 16\, Malmö\, 21125\, Sverige
CATEGORIES:Eljest
ORGANIZER;CN="Herr J%C3%B6nsson":MAILTO:jonsson@herrklubbenexotica.se
END:VEVENT
BEGIN:VEVENT
DTSTART;TZID=Europe/Stockholm:20170311T180000
DTEND;TZID=Europe/Stockholm:20170311T230000
DTSTAMP:20260422T195030
CREATED:20170321T104033Z
LAST-MODIFIED:20170321T104158Z
UID:287-1489255200-1489273200@www.herrklubbenexotica.se
SUMMARY:Årsmöte
DESCRIPTION:Anmälan senast 6 mars.
URL:https://www.herrklubbenexotica.se/index.php/event/arsmote/
CATEGORIES:Möte
ORGANIZER;CN="Herr Ordf%C3%B6rande":MAILTO:ordforande@herrklubbenexotica.se
END:VEVENT
END:VCALENDAR