BEGIN:VCALENDAR
VERSION:2.0
PRODID:-//Herrklubben Exotica - ECPv6.15.20//NONSGML v1.0//EN
CALSCALE:GREGORIAN
METHOD:PUBLISH
X-WR-CALNAME:Herrklubben Exotica
X-ORIGINAL-URL:https://www.herrklubbenexotica.se
X-WR-CALDESC:Events for Herrklubben Exotica
REFRESH-INTERVAL;VALUE=DURATION:PT1H
X-Robots-Tag:noindex
X-PUBLISHED-TTL:PT1H
BEGIN:VTIMEZONE
TZID:Europe/Stockholm
BEGIN:DAYLIGHT
TZOFFSETFROM:+0100
TZOFFSETTO:+0200
TZNAME:CEST
DTSTART:20160327T010000
END:DAYLIGHT
BEGIN:STANDARD
TZOFFSETFROM:+0200
TZOFFSETTO:+0100
TZNAME:CET
DTSTART:20161030T010000
END:STANDARD
BEGIN:DAYLIGHT
TZOFFSETFROM:+0100
TZOFFSETTO:+0200
TZNAME:CEST
DTSTART:20170326T010000
END:DAYLIGHT
BEGIN:STANDARD
TZOFFSETFROM:+0200
TZOFFSETTO:+0100
TZNAME:CET
DTSTART:20171029T010000
END:STANDARD
BEGIN:DAYLIGHT
TZOFFSETFROM:+0100
TZOFFSETTO:+0200
TZNAME:CEST
DTSTART:20180325T010000
END:DAYLIGHT
BEGIN:STANDARD
TZOFFSETFROM:+0200
TZOFFSETTO:+0100
TZNAME:CET
DTSTART:20181028T010000
END:STANDARD
END:VTIMEZONE
BEGIN:VEVENT
DTSTART;TZID=Europe/Stockholm:20170217T170000
DTEND;TZID=Europe/Stockholm:20170217T230000
DTSTAMP:20260423T003310
CREATED:20170321T103945Z
LAST-MODIFIED:20170321T104137Z
UID:285-1487350800-1487372400@www.herrklubbenexotica.se
SUMMARY:Bastubad + middag
DESCRIPTION:Anmälan senast 15 februari.
URL:https://www.herrklubbenexotica.se/index.php/event/bastubad-middag/
CATEGORIES:Eljest
ORGANIZER;CN="Herr Svensson":MAILTO:svensson@herrklubbenexotica.se
END:VEVENT
BEGIN:VEVENT
DTSTART;TZID=Europe/Stockholm:20170128T170000
DTEND;TZID=Europe/Stockholm:20170128T230000
DTSTAMP:20260423T003310
CREATED:20170321T103031Z
LAST-MODIFIED:20170321T104111Z
UID:275-1485622800-1485644400@www.herrklubbenexotica.se
SUMMARY:Bartömning
DESCRIPTION:Anmälan senast 24 januari.
URL:https://www.herrklubbenexotica.se/index.php/event/bartomning/
CATEGORIES:Eljest
END:VEVENT
END:VCALENDAR